View In:
ArcGIS JavaScript
ArcGIS Online Map Viewer
ArcGIS Earth
Service Description: RasterVerksamhet/lsty_ext_gi_skog_tathetsanalyser
Name: RasterVerksamhet/lsty_ext_gi_skog_tathetsanalyser
Description:
Single Fused Map Cache: false
Extent:
XMin: 478756.87800000136
YMin: 6877808.302282341
XMax: 742426.8780000014
YMax: 7111208.302282341
Spatial Reference: 3006
(3006)
LatestVCSWkid(0)
Initial Extent:
XMin: 478756.87800000136
YMin: 6877808.302282341
XMax: 742426.8780000014
YMax: 7111208.302282341
Spatial Reference: 3006
(3006)
LatestVCSWkid(0)
Full Extent:
XMin: 478756.87800000136
YMin: 6877808.302282341
XMax: 742426.8780000014
YMax: 7111208.302282341
Spatial Reference: 3006
(3006)
LatestVCSWkid(0)
Pixel Size X: 10.000000000000002
Pixel Size Y: 10.0
Band Count: 1
Pixel Type: S8
RasterFunction Infos: {"rasterFunctionInfos": [
{
"name": "None",
"description": "A No-Op Function.",
"help": ""
},
{
"name": "GI Skog A 500",
"description": "Täthetsanalys av skog A med 0500 m sökradie",
"help": ""
},
{
"name": "GI Skog A 1000",
"description": "Täthetsanalys av skog A med 1000 m sökradie",
"help": ""
},
{
"name": "GI Skog A 3000",
"description": "Täthetsanalys av skog A med 3000 m sökradie",
"help": ""
},
{
"name": "GI Skog B 500",
"description": "Täthetsanalys av skog B med 0500 m sökradie",
"help": ""
},
{
"name": "GI Skog B 1000",
"description": "Täthetsanalys av skog B med 1000 m sökradie",
"help": ""
},
{
"name": "GI Skog B 3000",
"description": "Täthetsanalys av skog B med 3000 m sökradie",
"help": ""
},
{
"name": "GI Skog C 500",
"description": "Täthetsanalys av skog C med 0500 m sökradie",
"help": ""
},
{
"name": "GI Skog C 1000",
"description": "Täthetsanalys av skog C med 1000 m sökradie",
"help": ""
},
{
"name": "GI Skog C 3000",
"description": "Täthetsanalys av skog C med 3000 m sökradie",
"help": ""
},
{
"name": "GI Skog D 500",
"description": "Täthetsanalys av skog D med 0500 m sökradie",
"help": ""
},
{
"name": "GI Skog D 1000",
"description": "Täthetsanalys av skog D med 1000 m sökradie",
"help": ""
},
{
"name": "GI Skog D 3000",
"description": "Täthetsanalys av skog D med 3000 m sökradie",
"help": ""
},
{
"name": "GI Skog E 500",
"description": "Täthetsanalys av skog E med 0500 m sökradie",
"help": ""
},
{
"name": "GI Skog E 1000",
"description": "Täthetsanalys av skog E med 1000 m sökradie",
"help": ""
},
{
"name": "GI Skog E 3000",
"description": "Täthetsanalys av skog E med 3000 m sökradie",
"help": ""
},
{
"name": "GI Skog F 500",
"description": "Täthetsanalys av skog F med 0500 m sökradie",
"help": ""
},
{
"name": "GI Skog F 1000",
"description": "Täthetsanalys av skog F med 1000 m sökradie",
"help": ""
},
{
"name": "GI Skog F 3000",
"description": "Täthetsanalys av skog F med 3000 m sökradie",
"help": ""
}
]}
Mensuration Capabilities: None
Inspection Capabilities:
Has Histograms: true
Has Colormap: false
Has Multi Dimensions : false
Rendering Rule:
Min Scale: 0
Max Scale: 0
Copyright Text:
Service Data Type: esriImageServiceDataTypeGeneric
Min Values: 1
Max Values: 100
Mean Values: 18.71165453723069
Standard Deviation Values: 13.02621709819661
Object ID Field: OBJECTID
Fields:
-
OBJECTID
(
type: esriFieldTypeOID, alias: OBJECTID
)
-
Shape
(
type: esriFieldTypeGeometry, alias: Shape
)
-
Name
(
type: esriFieldTypeString, alias: Name, length: 200
)
-
MinPS
(
type: esriFieldTypeDouble, alias: MinPS
)
-
MaxPS
(
type: esriFieldTypeDouble, alias: MaxPS
)
-
LowPS
(
type: esriFieldTypeDouble, alias: LowPS
)
-
HighPS
(
type: esriFieldTypeDouble, alias: HighPS
)
-
Category
(
type: esriFieldTypeInteger, alias: Category
, Coded Values:
[0: Unknown]
, [1: Primary]
, [2: Overview]
, ...5 more...
)
-
Tag
(
type: esriFieldTypeString, alias: Tag, length: 100
)
-
GroupName
(
type: esriFieldTypeString, alias: GroupName, length: 100
)
-
ProductName
(
type: esriFieldTypeString, alias: ProductName, length: 100
)
-
CenterX
(
type: esriFieldTypeDouble, alias: CenterX
)
-
CenterY
(
type: esriFieldTypeDouble, alias: CenterY
)
-
ZOrder
(
type: esriFieldTypeInteger, alias: ZOrder
)
-
Shape_Length
(
type: esriFieldTypeDouble, alias: Shape_Length
)
-
Shape_Area
(
type: esriFieldTypeDouble, alias: Shape_Area
)
Default Mosaic Method: Northwest
Allowed Mosaic Methods: NorthWest,Center,LockRaster,ByAttribute,Nadir,Viewpoint,Seamline,None
SortField:
SortValue: null
Mosaic Operator: First
Default Compression Quality: 75
Default Resampling Method: Nearest
Max Record Count: 1000
Max Image Height: 4100
Max Image Width: 15000
Max Download Image Count: 20
Max Mosaic Image Count: 20
Allow Raster Function: true
Allow Copy: true
Allow Analysis: true
Allow Compute TiePoints: false
Supports Statistics: true
Supports Advanced Queries: true
Use StandardizedQueries: false
Raster Type Infos:
Name: Raster Dataset
Description: Supports all ArcGIS Raster Datasets
Help:
Has Raster Attribute Table: false
Edit Fields Info: null
Ownership Based AccessControl For Rasters: null
Child Resources:
Info
Histograms
Statistics
Key Properties
Legend
Raster Function Infos
Supported Operations:
Export Image
Query
Identify
Compute Histograms
Compute Statistics Histograms
Get Samples
Compute Class Statistics
Query GPS Info
Find Images
Image to Map
Map to Image
Measure from Image
Image to Map Multiray
Query Boundary
Compute Pixel Location
Compute Angles
Validate
Project