{
 "currentVersion": 11.3,
 "serviceDescription": "RasterVerksamhet/lsty_ext_gi_skog_tathetsanalyser",
 "name": "RasterVerksamhet/lsty_ext_gi_skog_tathetsanalyser",
 "description": "",
 "extent": {
  "xmin": 478756.87800000136,
  "ymin": 6877808.302282341,
  "xmax": 742426.8780000014,
  "ymax": 7111208.302282341,
  "spatialReference": {
   "wkid": 3006,
   "latestWkid": 3006
  }
 },
 "initialExtent": {
  "xmin": 478756.87800000136,
  "ymin": 6877808.302282341,
  "xmax": 742426.8780000014,
  "ymax": 7111208.302282341,
  "spatialReference": {
   "wkid": 3006,
   "latestWkid": 3006
  }
 },
 "fullExtent": {
  "xmin": 478756.87800000136,
  "ymin": 6877808.302282341,
  "xmax": 742426.8780000014,
  "ymax": 7111208.302282341,
  "spatialReference": {
   "wkid": 3006,
   "latestWkid": 3006
  }
 },
 "sortableFields": "MinPS,MaxPS,LowPS,HighPS,CenterX,CenterY,ZOrder,Shape_Length,Shape_Area",
 "bandCount": 1,
 "pixelType": "S8",
 "minValues": [
  1
 ],
 "maxValues": [
  100
 ],
 "meanValues": [
  18.71165453723069
 ],
 "stdvValues": [
  13.02621709819661
 ],
 "hasMultidimensions": false,
 "pixelSizeX": 10.000000000000002,
 "pixelSizeY": 10,
 "meanPixelSize": 10,
 "datasetFormat": "AMD",
 "uncompressedSize": 615405780,
 "blockWidth": 2048,
 "blockHeight": 256,
 "compressionType": "None",
 "bandNames": [
  "Band_1"
 ],
 "allowCopy": true,
 "allowAnalysis": true,
 "itemAccess": false,
 "inspectionCapabilities": "",
 "minPixelSize": 0,
 "maxPixelSize": 0,
 "copyrightText": "",
 "serviceDataType": "esriImageServiceDataTypeGeneric",
 "serviceSourceType": "esriImageServiceSourceTypeMosaicDataset",
 "objectIdField": "OBJECTID",
 "fields": [
  {
   "name": "OBJECTID",
   "type": "esriFieldTypeOID",
   "alias": "OBJECTID",
   "domain": null
  },
  {
   "name": "Shape",
   "type": "esriFieldTypeGeometry",
   "alias": "Shape",
   "domain": null
  },
  {
   "name": "Name",
   "type": "esriFieldTypeString",
   "alias": "Name",
   "domain": null,
   "length": 200
  },
  {
   "name": "MinPS",
   "type": "esriFieldTypeDouble",
   "alias": "MinPS",
   "domain": null
  },
  {
   "name": "MaxPS",
   "type": "esriFieldTypeDouble",
   "alias": "MaxPS",
   "domain": null
  },
  {
   "name": "LowPS",
   "type": "esriFieldTypeDouble",
   "alias": "LowPS",
   "domain": null
  },
  {
   "name": "HighPS",
   "type": "esriFieldTypeDouble",
   "alias": "HighPS",
   "domain": null
  },
  {
   "name": "Category",
   "type": "esriFieldTypeInteger",
   "alias": "Category",
   "domain": {
    "type": "codedValue",
    "name": "MosaicCatalogItemCategoryDomain",
    "description": "Catalog item categories.",
    "codedValues": [
     {
      "name": "Unknown",
      "code": 0
     },
     {
      "name": "Primary",
      "code": 1
     },
     {
      "name": "Overview",
      "code": 2
     },
     {
      "name": "Unprocessed Overview",
      "code": 3
     },
     {
      "name": "Partial Overview",
      "code": 4
     },
     {
      "name": "Uploaded",
      "code": 253
     },
     {
      "name": "Incomplete",
      "code": 254
     },
     {
      "name": "Custom",
      "code": 255
     }
    ],
    "mergePolicy": "esriMPTDefaultValue",
    "splitPolicy": "esriSPTDefaultValue"
   }
  },
  {
   "name": "Tag",
   "type": "esriFieldTypeString",
   "alias": "Tag",
   "domain": null,
   "length": 100
  },
  {
   "name": "GroupName",
   "type": "esriFieldTypeString",
   "alias": "GroupName",
   "domain": null,
   "length": 100
  },
  {
   "name": "ProductName",
   "type": "esriFieldTypeString",
   "alias": "ProductName",
   "domain": null,
   "length": 100
  },
  {
   "name": "CenterX",
   "type": "esriFieldTypeDouble",
   "alias": "CenterX",
   "domain": null
  },
  {
   "name": "CenterY",
   "type": "esriFieldTypeDouble",
   "alias": "CenterY",
   "domain": null
  },
  {
   "name": "ZOrder",
   "type": "esriFieldTypeInteger",
   "alias": "ZOrder",
   "domain": null
  },
  {
   "name": "Shape_Length",
   "type": "esriFieldTypeDouble",
   "alias": "Shape_Length",
   "domain": null
  },
  {
   "name": "Shape_Area",
   "type": "esriFieldTypeDouble",
   "alias": "Shape_Area",
   "domain": null
  }
 ],
 "capabilities": "Image,Metadata,Catalog",
 "defaultMosaicMethod": "Northwest",
 "allowedMosaicMethods": "NorthWest,Center,LockRaster,ByAttribute,Nadir,Viewpoint,Seamline,None",
 "sortField": "",
 "sortValue": null,
 "sortAscending": true,
 "mosaicOperator": "First",
 "maxDownloadSizeLimit": 2048,
 "defaultCompressionQuality": 75,
 "defaultResamplingMethod": "Nearest",
 "maxImageHeight": 4100,
 "maxImageWidth": 15000,
 "maxRecordCount": 1000,
 "maxDownloadImageCount": 20,
 "maxMosaicImageCount": 20,
 "allowRasterFunction": true,
 "rasterFunctionInfos": [
  {
   "name": "None",
   "description": "A No-Op Function.",
   "help": ""
  },
  {
   "name": "GI Skog A 500",
   "description": "Täthetsanalys av skog A med 0500 m sökradie",
   "help": ""
  },
  {
   "name": "GI Skog A 1000",
   "description": "Täthetsanalys av skog A med 1000 m sökradie",
   "help": ""
  },
  {
   "name": "GI Skog A 3000",
   "description": "Täthetsanalys av skog A med 3000 m sökradie",
   "help": ""
  },
  {
   "name": "GI Skog B 500",
   "description": "Täthetsanalys av skog B med 0500 m sökradie",
   "help": ""
  },
  {
   "name": "GI Skog B 1000",
   "description": "Täthetsanalys av skog B med 1000 m sökradie",
   "help": ""
  },
  {
   "name": "GI Skog B 3000",
   "description": "Täthetsanalys av skog B med 3000 m sökradie",
   "help": ""
  },
  {
   "name": "GI Skog C 500",
   "description": "Täthetsanalys av skog C med 0500 m sökradie",
   "help": ""
  },
  {
   "name": "GI Skog C 1000",
   "description": "Täthetsanalys av skog C med 1000 m sökradie",
   "help": ""
  },
  {
   "name": "GI Skog C 3000",
   "description": "Täthetsanalys av skog C med 3000 m sökradie",
   "help": ""
  },
  {
   "name": "GI Skog D 500",
   "description": "Täthetsanalys av skog D med 0500 m sökradie",
   "help": ""
  },
  {
   "name": "GI Skog D 1000",
   "description": "Täthetsanalys av skog D med 1000 m sökradie",
   "help": ""
  },
  {
   "name": "GI Skog D 3000",
   "description": "Täthetsanalys av skog D med 3000 m sökradie",
   "help": ""
  },
  {
   "name": "GI Skog E 500",
   "description": "Täthetsanalys av skog E med 0500 m sökradie",
   "help": ""
  },
  {
   "name": "GI Skog E 1000",
   "description": "Täthetsanalys av skog E med 1000 m sökradie",
   "help": ""
  },
  {
   "name": "GI Skog E 3000",
   "description": "Täthetsanalys av skog E med 3000 m sökradie",
   "help": ""
  },
  {
   "name": "GI Skog F 500",
   "description": "Täthetsanalys av skog F med 0500 m sökradie",
   "help": ""
  },
  {
   "name": "GI Skog F 1000",
   "description": "Täthetsanalys av skog F med 1000 m sökradie",
   "help": ""
  },
  {
   "name": "GI Skog F 3000",
   "description": "Täthetsanalys av skog F med 3000 m sökradie",
   "help": ""
  }
 ],
 "rasterTypeInfos": [
  {
   "name": "Raster Dataset",
   "description": "Supports all ArcGIS Raster Datasets",
   "help": ""
  }
 ],
 "mensurationCapabilities": "None",
 "hasHistograms": true,
 "hasColormap": false,
 "hasRasterAttributeTable": false,
 "minScale": 0,
 "maxScale": 0,
 "exportTilesAllowed": false,
 "supportsStatistics": true,
 "supportsAdvancedQueries": true,
 "editFieldsInfo": null,
 "ownershipBasedAccessControlForRasters": null,
 "allowComputeTiePoints": false,
 "useStandardizedQueries": false,
 "advancedQueryCapabilities": {
  "useStandardizedQueries": false,
  "supportsStatistics": true,
  "supportsOrderBy": true,
  "supportsDistinct": true,
  "supportsPagination": true
 },
 "spatialReference": {
  "wkid": 3006,
  "latestWkid": 3006
 }
}
