View In:
ArcGIS JavaScript
ArcGIS Online Map Viewer
ArcGIS Earth
Service Description: RasterNationellt/lst_hojddata_1m
Name: RasterNationellt/lst_hojddata_1m
Description:
Single Fused Map Cache: false
Extent:
XMin: 265000.0
YMin: 6132500.0
XMax: 922500.0
YMax: 7672500.0
Spatial Reference: 3006
(3006)
LatestVCSWkid(0)
Initial Extent:
XMin: 265000.0
YMin: 6132500.0
XMax: 922500.0
YMax: 7672500.0
Spatial Reference: 3006
(3006)
LatestVCSWkid(0)
Full Extent:
XMin: 265000.0
YMin: 6132500.0
XMax: 922500.0
YMax: 7672500.0
Spatial Reference: 3006
(3006)
LatestVCSWkid(0)
Pixel Size X: 1.0
Pixel Size Y: 1.0
Band Count: 1
Pixel Type: F32
RasterFunction Infos: {"rasterFunctionInfos": [
{
"name": "None",
"description": "Make a Raster or Raster Dataset into a Function Raster Dataset.",
"help": ""
},
{
"name": "Höjdskuggning 1m bäring 0 grader",
"description": "Höjdskuggning",
"help": "Höjdskuggning 0 grader från norr räknat."
},
{
"name": "Höjdskuggning 1m bäring 45 grader",
"description": "Höjdskuggning",
"help": "Höjdskuggning 45 grader från norr räknat."
},
{
"name": "Höjdskuggning 1m bäring 90 grader",
"description": "Höjdskuggning",
"help": "Höjdskuggning 90 grader från norr räknat."
},
{
"name": "Höjdskuggning 1m bäring 135 grader",
"description": "Höjdskuggning",
"help": "Höjdskuggning 135 grader från norr räknat."
},
{
"name": "Höjdskuggning 1m bäring 180 grader",
"description": "Höjdskuggning",
"help": "Höjdskuggning 180 grader från norr räknat."
},
{
"name": "Höjdskuggning 1m bäring 225 grader",
"description": "Höjdskuggning",
"help": "Höjdskuggning 225 grader från norr räknat."
},
{
"name": "Höjdskuggning 1m bäring 270 grader",
"description": "Höjdskuggning",
"help": "Höjdskuggning 270 grader från norr räknat."
},
{
"name": "Höjdskuggning 1m bäring 315 grader standard",
"description": "Höjdskuggning",
"help": "Höjdskuggning 315 grader från norr räknat."
}
]}
Mensuration Capabilities: Basic
Inspection Capabilities:
Has Histograms: true
Has Colormap: false
Has Multi Dimensions : false
Rendering Rule:
Min Scale: 0
Max Scale: 0
Resampling: false
Copyright Text:
Service Data Type: esriImageServiceDataTypeGeneric
Min Values: -12.730344772338867
Max Values: 1917.0765380859375
Mean Values: 304.12323880392034
Standard Deviation Values: 262.2846188966522
Object ID Field: OBJECTID
Fields:
-
OBJECTID
(
type: esriFieldTypeOID, alias: OBJECTID
)
-
Shape
(
type: esriFieldTypeGeometry, alias: Shape
)
-
Name
(
type: esriFieldTypeString, alias: Name, length: 200
)
-
MinPS
(
type: esriFieldTypeDouble, alias: MinPS
)
-
MaxPS
(
type: esriFieldTypeDouble, alias: MaxPS
)
-
LowPS
(
type: esriFieldTypeDouble, alias: LowPS
)
-
HighPS
(
type: esriFieldTypeDouble, alias: HighPS
)
-
Category
(
type: esriFieldTypeInteger, alias: Category
, Coded Values:
[0: Unknown]
, [1: Primary]
, [2: Overview]
, ...6 more...
)
-
Tag
(
type: esriFieldTypeString, alias: Tag, length: 100
)
-
GroupName
(
type: esriFieldTypeString, alias: GroupName, length: 100
)
-
ProductName
(
type: esriFieldTypeString, alias: ProductName, length: 100
)
-
CenterX
(
type: esriFieldTypeDouble, alias: CenterX
)
-
CenterY
(
type: esriFieldTypeDouble, alias: CenterY
)
-
ZOrder
(
type: esriFieldTypeInteger, alias: ZOrder
)
-
Shape_Length
(
type: esriFieldTypeDouble, alias: Shape_Length
)
-
Shape_Area
(
type: esriFieldTypeDouble, alias: Shape_Area
)
Default Mosaic Method: Northwest
Allowed Mosaic Methods: NorthWest,Center,LockRaster,ByAttribute,Nadir,Viewpoint,Seamline,None
SortField:
SortValue: null
Mosaic Operator: First
Default Compression Quality: 75
Default Resampling Method: Bilinear
Max Record Count: 1000
Max Image Height: 4100
Max Image Width: 15000
Max Download Image Count: 30
Max Mosaic Image Count: 30
Allow Raster Function: true
Allow Copy: true
Allow Analysis: true
Allow Compute TiePoints: false
Supports Statistics: true
Supports Advanced Queries: true
Use StandardizedQueries: false
Raster Type Infos:
Name: Raster Dataset
Description: Supports all ArcGIS Raster Datasets
Help:
Has Raster Attribute Table: false
Edit Fields Info: null
Ownership Based AccessControl For Rasters: null
Child Resources:
Info
Histograms
Statistics
Key Properties
Legend
Raster Function Infos
Supported Operations:
Export Image
Query
Identify
Measure
Compute Histograms
Compute Statistics Histograms
Get Samples
Compute Class Statistics
Query GPS Info
Find Images
Image to Map
Map to Image
Measure from Image
Image to Map Multiray
Query Boundary
Compute Pixel Location
Compute Angles
Validate
Project