{
 "currentVersion": 11.3,
 "serviceDescription": "RasterNationellt/lst_hojddata_1m",
 "name": "RasterNationellt/lst_hojddata_1m",
 "description": "",
 "extent": {
  "xmin": 265000,
  "ymin": 6132500,
  "xmax": 922500,
  "ymax": 7672500,
  "spatialReference": {
   "wkid": 3006,
   "latestWkid": 3006
  }
 },
 "initialExtent": {
  "xmin": 265000,
  "ymin": 6132500,
  "xmax": 922500,
  "ymax": 7672500,
  "spatialReference": {
   "wkid": 3006,
   "latestWkid": 3006
  }
 },
 "fullExtent": {
  "xmin": 265000,
  "ymin": 6132500,
  "xmax": 922500,
  "ymax": 7672500,
  "spatialReference": {
   "wkid": 3006,
   "latestWkid": 3006
  }
 },
 "sortableFields": "MinPS,MaxPS,LowPS,HighPS,CenterX,CenterY,ZOrder,Shape_Length,Shape_Area",
 "bandCount": 1,
 "pixelType": "F32",
 "minValues": [
  -12.730344772338867
 ],
 "maxValues": [
  1917.0765380859375
 ],
 "meanValues": [
  304.12323880392034
 ],
 "stdvValues": [
  262.2846188966522
 ],
 "hasMultidimensions": false,
 "pixelSizeX": 1,
 "pixelSizeY": 1,
 "meanPixelSize": 1,
 "datasetFormat": "AMD",
 "uncompressedSize": 4050200000000,
 "blockWidth": 2048,
 "blockHeight": 256,
 "compressionType": "None",
 "bandNames": [
  "Band_1"
 ],
 "allowCopy": true,
 "allowAnalysis": true,
 "itemAccess": false,
 "inspectionCapabilities": "",
 "minPixelSize": 0,
 "maxPixelSize": 0,
 "copyrightText": "",
 "serviceDataType": "esriImageServiceDataTypeGeneric",
 "serviceSourceType": "esriImageServiceSourceTypeMosaicDataset",
 "objectIdField": "OBJECTID",
 "fields": [
  {
   "name": "OBJECTID",
   "type": "esriFieldTypeOID",
   "alias": "OBJECTID",
   "domain": null
  },
  {
   "name": "Shape",
   "type": "esriFieldTypeGeometry",
   "alias": "Shape",
   "domain": null
  },
  {
   "name": "Name",
   "type": "esriFieldTypeString",
   "alias": "Name",
   "domain": null,
   "length": 200
  },
  {
   "name": "MinPS",
   "type": "esriFieldTypeDouble",
   "alias": "MinPS",
   "domain": null
  },
  {
   "name": "MaxPS",
   "type": "esriFieldTypeDouble",
   "alias": "MaxPS",
   "domain": null
  },
  {
   "name": "LowPS",
   "type": "esriFieldTypeDouble",
   "alias": "LowPS",
   "domain": null
  },
  {
   "name": "HighPS",
   "type": "esriFieldTypeDouble",
   "alias": "HighPS",
   "domain": null
  },
  {
   "name": "Category",
   "type": "esriFieldTypeInteger",
   "alias": "Category",
   "domain": {
    "type": "codedValue",
    "name": "MosaicCatalogItemCategoryDomain",
    "description": "Catalog item categories.",
    "codedValues": [
     {
      "name": "Unknown",
      "code": 0
     },
     {
      "name": "Primary",
      "code": 1
     },
     {
      "name": "Overview",
      "code": 2
     },
     {
      "name": "Unprocessed Overview",
      "code": 3
     },
     {
      "name": "Partial Overview",
      "code": 4
     },
     {
      "name": "Inactive",
      "code": 5
     },
     {
      "name": "Uploaded",
      "code": 253
     },
     {
      "name": "Incomplete",
      "code": 254
     },
     {
      "name": "Custom",
      "code": 255
     }
    ],
    "mergePolicy": "esriMPTDefaultValue",
    "splitPolicy": "esriSPTDefaultValue"
   }
  },
  {
   "name": "Tag",
   "type": "esriFieldTypeString",
   "alias": "Tag",
   "domain": null,
   "length": 100
  },
  {
   "name": "GroupName",
   "type": "esriFieldTypeString",
   "alias": "GroupName",
   "domain": null,
   "length": 100
  },
  {
   "name": "ProductName",
   "type": "esriFieldTypeString",
   "alias": "ProductName",
   "domain": null,
   "length": 100
  },
  {
   "name": "CenterX",
   "type": "esriFieldTypeDouble",
   "alias": "CenterX",
   "domain": null
  },
  {
   "name": "CenterY",
   "type": "esriFieldTypeDouble",
   "alias": "CenterY",
   "domain": null
  },
  {
   "name": "ZOrder",
   "type": "esriFieldTypeInteger",
   "alias": "ZOrder",
   "domain": null
  },
  {
   "name": "Shape_Length",
   "type": "esriFieldTypeDouble",
   "alias": "Shape_Length",
   "domain": null
  },
  {
   "name": "Shape_Area",
   "type": "esriFieldTypeDouble",
   "alias": "Shape_Area",
   "domain": null
  }
 ],
 "capabilities": "Catalog,Mensuration,Image,Metadata",
 "defaultMosaicMethod": "Northwest",
 "allowedMosaicMethods": "NorthWest,Center,LockRaster,ByAttribute,Nadir,Viewpoint,Seamline,None",
 "sortField": "",
 "sortValue": null,
 "sortAscending": true,
 "mosaicOperator": "First",
 "maxDownloadSizeLimit": 2048,
 "defaultCompressionQuality": 75,
 "defaultResamplingMethod": "Bilinear",
 "maxImageHeight": 4100,
 "maxImageWidth": 15000,
 "maxRecordCount": 1000,
 "maxDownloadImageCount": 30,
 "maxMosaicImageCount": 30,
 "allowRasterFunction": true,
 "rasterFunctionInfos": [
  {
   "name": "None",
   "description": "Make a Raster or Raster Dataset into a Function Raster Dataset.",
   "help": ""
  },
  {
   "name": "Höjdskuggning 1m bäring 0 grader",
   "description": "Höjdskuggning",
   "help": "Höjdskuggning 0 grader från norr räknat."
  },
  {
   "name": "Höjdskuggning 1m bäring 45 grader",
   "description": "Höjdskuggning",
   "help": "Höjdskuggning 45 grader från norr räknat."
  },
  {
   "name": "Höjdskuggning 1m bäring 90 grader",
   "description": "Höjdskuggning",
   "help": "Höjdskuggning 90 grader från norr räknat."
  },
  {
   "name": "Höjdskuggning 1m bäring 135 grader",
   "description": "Höjdskuggning",
   "help": "Höjdskuggning 135 grader från norr räknat."
  },
  {
   "name": "Höjdskuggning 1m bäring 180 grader",
   "description": "Höjdskuggning",
   "help": "Höjdskuggning 180 grader från norr räknat."
  },
  {
   "name": "Höjdskuggning 1m bäring 225 grader",
   "description": "Höjdskuggning",
   "help": "Höjdskuggning 225 grader från norr räknat."
  },
  {
   "name": "Höjdskuggning 1m bäring 270 grader",
   "description": "Höjdskuggning",
   "help": "Höjdskuggning 270 grader från norr räknat."
  },
  {
   "name": "Höjdskuggning 1m bäring 315 grader standard",
   "description": "Höjdskuggning",
   "help": "Höjdskuggning 315 grader från norr räknat."
  }
 ],
 "rasterTypeInfos": [
  {
   "name": "Raster Dataset",
   "description": "Supports all ArcGIS Raster Datasets",
   "help": ""
  }
 ],
 "mensurationCapabilities": "Basic",
 "hasHistograms": true,
 "hasColormap": false,
 "hasRasterAttributeTable": false,
 "minScale": 0,
 "maxScale": 0,
 "exportTilesAllowed": false,
 "supportsStatistics": true,
 "supportsAdvancedQueries": true,
 "editFieldsInfo": null,
 "ownershipBasedAccessControlForRasters": null,
 "allowComputeTiePoints": false,
 "useStandardizedQueries": false,
 "advancedQueryCapabilities": {
  "useStandardizedQueries": false,
  "supportsStatistics": true,
  "supportsOrderBy": true,
  "supportsDistinct": true,
  "supportsPagination": true
 },
 "spatialReference": {
  "wkid": 3006,
  "latestWkid": 3006
 },
 "resampling": false
}
