View In:
ArcGIS JavaScript
ArcGIS Online Map Viewer
ArcGIS Earth
Service Description: RasterNationellt/lst_ext_haradsekonomiska_kartan_temp
Name: RasterNationellt/lst_ext_haradsekonomiska_kartan_temp
Description:
Single Fused Map Cache: false
Extent:
XMin: 304625.5243143377
YMin: 6196689.145047918
XMax: 765303.5243143376
YMax: 6778127.145047918
Spatial Reference: 3006
(3006)
LatestVCSWkid(0)
Initial Extent:
XMin: 304625.5243143377
YMin: 6196689.145047918
XMax: 765303.5243143376
YMax: 6778127.145047918
Spatial Reference: 3006
(3006)
LatestVCSWkid(0)
Full Extent:
XMin: 304625.5243143377
YMin: 6196689.145047918
XMax: 765303.5243143376
YMax: 6778127.145047918
Spatial Reference: 3006
(3006)
LatestVCSWkid(0)
Pixel Size X: 1.9999999999999998
Pixel Size Y: 2.0
Band Count: 3
Pixel Type: U8
RasterFunction Infos: {"rasterFunctionInfos": [
{
"name": "None",
"description": "Make a Raster or Raster Dataset into a Function Raster Dataset.",
"help": ""
},
{
"name": "Häradsekonomiska kartan LstS",
"description": "Häradsekonomiska kartan över Värmlands län",
"help": ""
},
{
"name": "Häradskartan LstAB",
"description": "Häradskartan över Stockholms län",
"help": ""
},
{
"name": "Häradskartan LstC",
"description": "Häradskartan över Uppsala län",
"help": ""
},
{
"name": "Häradskartan LstD",
"description": "Häradskartan över Södermanlands län",
"help": ""
},
{
"name": "Häradskartan LstE",
"description": "Häradskartan över Östergötlands län",
"help": ""
},
{
"name": "Häradskartan LstK",
"description": "Häradskartan över Blekinge län",
"help": ""
},
{
"name": "Häradskartan LstO variant 1",
"description": "Häradskartan över Västra Götalands län variant 1",
"help": ""
},
{
"name": "Häradskartan LstO variant 2",
"description": "Häradskartan över Västra Götalands län variant 2",
"help": ""
},
{
"name": "Häradskartan LstS",
"description": "Häradskartan över Värmlands län",
"help": ""
},
{
"name": "Häradskartan LstT",
"description": "Häradskartan över Örebro län",
"help": ""
},
{
"name": "Häradskartan LstU",
"description": "Häradskartan över Västmanlands län",
"help": ""
}
]}
Mensuration Capabilities: Basic
Inspection Capabilities:
Has Histograms: false
Has Colormap: false
Has Multi Dimensions : false
Rendering Rule:
Min Scale: 0
Max Scale: 0
Resampling: false
Copyright Text:
Service Data Type: esriImageServiceDataTypeRGB
Min Values: N/A
Max Values: N/A
Mean Values: N/A
Standard Deviation Values: N/A
Object ID Field: OBJECTID
Fields:
-
OBJECTID
(
type: esriFieldTypeOID, alias: OBJECTID
)
-
Shape
(
type: esriFieldTypeGeometry, alias: Shape
)
-
Name
(
type: esriFieldTypeString, alias: Name, length: 200
)
-
MinPS
(
type: esriFieldTypeDouble, alias: MinPS
)
-
MaxPS
(
type: esriFieldTypeDouble, alias: MaxPS
)
-
LowPS
(
type: esriFieldTypeDouble, alias: LowPS
)
-
HighPS
(
type: esriFieldTypeDouble, alias: HighPS
)
-
Category
(
type: esriFieldTypeInteger, alias: Category
, Coded Values:
[0: Unknown]
, [1: Primary]
, [2: Overview]
, ...6 more...
)
-
Tag
(
type: esriFieldTypeString, alias: Tag, length: 100
)
-
GroupName
(
type: esriFieldTypeString, alias: GroupName, length: 100
)
-
ProductName
(
type: esriFieldTypeString, alias: ProductName, length: 100
)
-
CenterX
(
type: esriFieldTypeDouble, alias: CenterX
)
-
CenterY
(
type: esriFieldTypeDouble, alias: CenterY
)
-
ZOrder
(
type: esriFieldTypeInteger, alias: ZOrder
)
-
Shape_Length
(
type: esriFieldTypeDouble, alias: Shape_Length
)
-
Shape_Area
(
type: esriFieldTypeDouble, alias: Shape_Area
)
Default Mosaic Method: Northwest
Allowed Mosaic Methods: NorthWest,Center,LockRaster,ByAttribute,Nadir,Viewpoint,Seamline,None
SortField:
SortValue: null
Mosaic Operator: First
Default Compression Quality: 75
Default Resampling Method: Bilinear
Max Record Count: 1000
Max Image Height: 4100
Max Image Width: 15000
Max Download Image Count: 20
Max Mosaic Image Count: 50
Allow Raster Function: true
Allow Copy: true
Allow Analysis: true
Allow Compute TiePoints: false
Supports Statistics: true
Supports Advanced Queries: true
Use StandardizedQueries: false
Raster Type Infos:
Name: Raster Dataset
Description: Supports all ArcGIS Raster Datasets
Help:
Has Raster Attribute Table: false
Edit Fields Info: null
Ownership Based AccessControl For Rasters: null
Child Resources:
Info
Statistics
Key Properties
Legend
Raster Function Infos
Supported Operations:
Export Image
Query
Identify
Measure
Compute Histograms
Compute Statistics Histograms
Get Samples
Compute Class Statistics
Query GPS Info
Find Images
Image to Map
Map to Image
Measure from Image
Image to Map Multiray
Query Boundary
Compute Pixel Location
Compute Angles
Validate
Project