{
 "currentVersion": 11.3,
 "serviceDescription": "RasterNationellt/lst_ext_haradsekonomiska_kartan_temp",
 "name": "RasterNationellt/lst_ext_haradsekonomiska_kartan_temp",
 "description": "",
 "extent": {
  "xmin": 304625.5243143377,
  "ymin": 6196689.145047918,
  "xmax": 765303.5243143376,
  "ymax": 6778127.145047918,
  "spatialReference": {
   "wkid": 3006,
   "latestWkid": 3006
  }
 },
 "initialExtent": {
  "xmin": 304625.5243143377,
  "ymin": 6196689.145047918,
  "xmax": 765303.5243143376,
  "ymax": 6778127.145047918,
  "spatialReference": {
   "wkid": 3006,
   "latestWkid": 3006
  }
 },
 "fullExtent": {
  "xmin": 304625.5243143377,
  "ymin": 6196689.145047918,
  "xmax": 765303.5243143376,
  "ymax": 6778127.145047918,
  "spatialReference": {
   "wkid": 3006,
   "latestWkid": 3006
  }
 },
 "sortableFields": "MinPS,MaxPS,LowPS,HighPS,CenterX,CenterY,ZOrder,Shape_Length,Shape_Area",
 "bandCount": 3,
 "pixelType": "U8",
 "minValues": [],
 "maxValues": [],
 "meanValues": [],
 "stdvValues": [],
 "hasMultidimensions": false,
 "pixelSizeX": 1.9999999999999998,
 "pixelSizeY": 2,
 "meanPixelSize": 2,
 "datasetFormat": "AMD",
 "uncompressedSize": 200891771223,
 "blockWidth": 2048,
 "blockHeight": 256,
 "compressionType": "None",
 "bandNames": [
  "Band_1",
  "Band_2",
  "Band_3"
 ],
 "allowCopy": true,
 "allowAnalysis": true,
 "itemAccess": false,
 "inspectionCapabilities": "",
 "minPixelSize": 0,
 "maxPixelSize": 0,
 "copyrightText": "",
 "serviceDataType": "esriImageServiceDataTypeRGB",
 "serviceSourceType": "esriImageServiceSourceTypeMosaicDataset",
 "objectIdField": "OBJECTID",
 "fields": [
  {
   "name": "OBJECTID",
   "type": "esriFieldTypeOID",
   "alias": "OBJECTID",
   "domain": null
  },
  {
   "name": "Shape",
   "type": "esriFieldTypeGeometry",
   "alias": "Shape",
   "domain": null
  },
  {
   "name": "Name",
   "type": "esriFieldTypeString",
   "alias": "Name",
   "domain": null,
   "length": 200
  },
  {
   "name": "MinPS",
   "type": "esriFieldTypeDouble",
   "alias": "MinPS",
   "domain": null
  },
  {
   "name": "MaxPS",
   "type": "esriFieldTypeDouble",
   "alias": "MaxPS",
   "domain": null
  },
  {
   "name": "LowPS",
   "type": "esriFieldTypeDouble",
   "alias": "LowPS",
   "domain": null
  },
  {
   "name": "HighPS",
   "type": "esriFieldTypeDouble",
   "alias": "HighPS",
   "domain": null
  },
  {
   "name": "Category",
   "type": "esriFieldTypeInteger",
   "alias": "Category",
   "domain": {
    "type": "codedValue",
    "name": "MosaicCatalogItemCategoryDomain",
    "description": "Catalog item categories.",
    "codedValues": [
     {
      "name": "Unknown",
      "code": 0
     },
     {
      "name": "Primary",
      "code": 1
     },
     {
      "name": "Overview",
      "code": 2
     },
     {
      "name": "Unprocessed Overview",
      "code": 3
     },
     {
      "name": "Partial Overview",
      "code": 4
     },
     {
      "name": "Inactive",
      "code": 5
     },
     {
      "name": "Uploaded",
      "code": 253
     },
     {
      "name": "Incomplete",
      "code": 254
     },
     {
      "name": "Custom",
      "code": 255
     }
    ],
    "mergePolicy": "esriMPTDefaultValue",
    "splitPolicy": "esriSPTDefaultValue"
   }
  },
  {
   "name": "Tag",
   "type": "esriFieldTypeString",
   "alias": "Tag",
   "domain": null,
   "length": 100
  },
  {
   "name": "GroupName",
   "type": "esriFieldTypeString",
   "alias": "GroupName",
   "domain": null,
   "length": 100
  },
  {
   "name": "ProductName",
   "type": "esriFieldTypeString",
   "alias": "ProductName",
   "domain": null,
   "length": 100
  },
  {
   "name": "CenterX",
   "type": "esriFieldTypeDouble",
   "alias": "CenterX",
   "domain": null
  },
  {
   "name": "CenterY",
   "type": "esriFieldTypeDouble",
   "alias": "CenterY",
   "domain": null
  },
  {
   "name": "ZOrder",
   "type": "esriFieldTypeInteger",
   "alias": "ZOrder",
   "domain": null
  },
  {
   "name": "Shape_Length",
   "type": "esriFieldTypeDouble",
   "alias": "Shape_Length",
   "domain": null
  },
  {
   "name": "Shape_Area",
   "type": "esriFieldTypeDouble",
   "alias": "Shape_Area",
   "domain": null
  }
 ],
 "capabilities": "Catalog,Mensuration,Image,Metadata",
 "defaultMosaicMethod": "Northwest",
 "allowedMosaicMethods": "NorthWest,Center,LockRaster,ByAttribute,Nadir,Viewpoint,Seamline,None",
 "sortField": "",
 "sortValue": null,
 "sortAscending": true,
 "mosaicOperator": "First",
 "maxDownloadSizeLimit": 2048,
 "defaultCompressionQuality": 75,
 "defaultResamplingMethod": "Bilinear",
 "maxImageHeight": 4100,
 "maxImageWidth": 15000,
 "maxRecordCount": 1000,
 "maxDownloadImageCount": 20,
 "maxMosaicImageCount": 50,
 "allowRasterFunction": true,
 "rasterFunctionInfos": [
  {
   "name": "None",
   "description": "Make a Raster or Raster Dataset into a Function Raster Dataset.",
   "help": ""
  },
  {
   "name": "Häradsekonomiska kartan LstS",
   "description": "Häradsekonomiska kartan över Värmlands län",
   "help": ""
  },
  {
   "name": "Häradskartan LstAB",
   "description": "Häradskartan över Stockholms län",
   "help": ""
  },
  {
   "name": "Häradskartan LstC",
   "description": "Häradskartan över Uppsala län",
   "help": ""
  },
  {
   "name": "Häradskartan LstD",
   "description": "Häradskartan över Södermanlands län",
   "help": ""
  },
  {
   "name": "Häradskartan LstE",
   "description": "Häradskartan över Östergötlands län",
   "help": ""
  },
  {
   "name": "Häradskartan LstK",
   "description": "Häradskartan över Blekinge län",
   "help": ""
  },
  {
   "name": "Häradskartan LstO variant 1",
   "description": "Häradskartan över Västra Götalands län variant 1",
   "help": ""
  },
  {
   "name": "Häradskartan LstO variant 2",
   "description": "Häradskartan över Västra Götalands län variant 2",
   "help": ""
  },
  {
   "name": "Häradskartan LstS",
   "description": "Häradskartan över Värmlands län",
   "help": ""
  },
  {
   "name": "Häradskartan LstT",
   "description": "Häradskartan över Örebro län",
   "help": ""
  },
  {
   "name": "Häradskartan LstU",
   "description": "Häradskartan över Västmanlands län",
   "help": ""
  }
 ],
 "rasterTypeInfos": [
  {
   "name": "Raster Dataset",
   "description": "Supports all ArcGIS Raster Datasets",
   "help": ""
  }
 ],
 "mensurationCapabilities": "Basic",
 "hasHistograms": false,
 "hasColormap": false,
 "hasRasterAttributeTable": false,
 "minScale": 0,
 "maxScale": 0,
 "exportTilesAllowed": false,
 "supportsStatistics": true,
 "supportsAdvancedQueries": true,
 "editFieldsInfo": null,
 "ownershipBasedAccessControlForRasters": null,
 "allowComputeTiePoints": false,
 "useStandardizedQueries": false,
 "advancedQueryCapabilities": {
  "useStandardizedQueries": false,
  "supportsStatistics": true,
  "supportsOrderBy": true,
  "supportsDistinct": true,
  "supportsPagination": true
 },
 "spatialReference": {
  "wkid": 3006,
  "latestWkid": 3006
 },
 "resampling": false
}
