View In:
ArcGIS JavaScript
ArcGIS Online Map Viewer
ArcGIS Earth
Service Description: RasterVerksamhet/lsts_ext_skyfallskartering
Name: RasterVerksamhet/lsts_ext_skyfallskartering
Description:
Single Fused Map Cache: false
Extent:
XMin: 334000.0
YMin: 6547418.0
XMax: 462980.0
YMax: 6672342.0
Spatial Reference: 3006
(3006)
LatestVCSWkid(0)
Initial Extent:
XMin: 334000.0
YMin: 6547418.0
XMax: 462980.0
YMax: 6672342.0
Spatial Reference: 3006
(3006)
LatestVCSWkid(0)
Full Extent:
XMin: 334000.0
YMin: 6547418.0
XMax: 462980.0
YMax: 6672342.0
Spatial Reference: 3006
(3006)
LatestVCSWkid(0)
Pixel Size X: 4.0
Pixel Size Y: 4.0
Band Count: 1
Pixel Type: F32
RasterFunction Infos: {"rasterFunctionInfos": [
{
"name": "None",
"description": "A No-Op Function.",
"help": ""
},
{
"name": "skyfallskart_flode_100ars",
"description": "A raster function template.",
"help": "Högsta flöde som kan inträffa under perioden 100 år."
},
{
"name": "skyfallskart_flode_kopenhamn",
"description": "A raster function template.",
"help": "Högsta flöde som kan inträffa under en period enligt Köpenhamnsmetoden."
},
{
"name": "skyfallskart_flodesriktn_100ars",
"description": "A raster function template.",
"help": "Hjälptext"
},
{
"name": "skyfallskart_flodesriktn_kopenhamn",
"description": "A raster function template.",
"help": "Flödesriktningar för det högsta flöde som kan inträffa under en period enligt Köpenhamnsmetoden."
},
{
"name": "skyfallskart_maxdjup_100ars",
"description": "A raster function template.",
"help": "Det maxdjup som kan tänkas uppnås under en 100-årsperiod."
},
{
"name": "skyfallskart_maxdjup_kopenhamn",
"description": "A raster function template.",
"help": "Det maxdjup som kan tänkas uppnås under en period enligt Köpenhamnsmetoden."
}
]}
Mensuration Capabilities: Basic
Inspection Capabilities:
Has Histograms: false
Has Colormap: false
Has Multi Dimensions : false
Rendering Rule:
Min Scale: 0
Max Scale: 0
Resampling: false
Copyright Text:
Service Data Type: esriImageServiceDataTypeGeneric
Min Values: N/A
Max Values: N/A
Mean Values: N/A
Standard Deviation Values: N/A
Object ID Field: OBJECTID
Fields:
-
OBJECTID
(
type: esriFieldTypeOID, alias: OBJECTID
)
-
Shape
(
type: esriFieldTypeGeometry, alias: Shape
)
-
Name
(
type: esriFieldTypeString, alias: Name, length: 200
)
-
MinPS
(
type: esriFieldTypeDouble, alias: MinPS
)
-
MaxPS
(
type: esriFieldTypeDouble, alias: MaxPS
)
-
LowPS
(
type: esriFieldTypeDouble, alias: LowPS
)
-
HighPS
(
type: esriFieldTypeDouble, alias: HighPS
)
-
Category
(
type: esriFieldTypeInteger, alias: Category
, Coded Values:
[0: Unknown]
, [1: Primary]
, [2: Overview]
, ...6 more...
)
-
Tag
(
type: esriFieldTypeString, alias: Tag, length: 100
)
-
GroupName
(
type: esriFieldTypeString, alias: GroupName, length: 100
)
-
ProductName
(
type: esriFieldTypeString, alias: ProductName, length: 100
)
-
CenterX
(
type: esriFieldTypeDouble, alias: CenterX
)
-
CenterY
(
type: esriFieldTypeDouble, alias: CenterY
)
-
ZOrder
(
type: esriFieldTypeInteger, alias: ZOrder
)
-
Shape_Length
(
type: esriFieldTypeDouble, alias: Shape_Length
)
-
Shape_Area
(
type: esriFieldTypeDouble, alias: Shape_Area
)
Default Mosaic Method: Northwest
Allowed Mosaic Methods: NorthWest,Center,LockRaster,ByAttribute,Nadir,Viewpoint,Seamline,None
SortField:
SortValue: null
Mosaic Operator: First
Default Compression Quality: 75
Default Resampling Method: Nearest
Max Record Count: 1000
Max Image Height: 4100
Max Image Width: 15000
Max Download Image Count: 20
Max Mosaic Image Count: 20
Allow Raster Function: true
Allow Copy: true
Allow Analysis: true
Allow Compute TiePoints: false
Supports Statistics: true
Supports Advanced Queries: true
Use StandardizedQueries: false
Raster Type Infos:
Name: Raster Dataset
Description: Supports all ArcGIS Raster Datasets
Help:
Has Raster Attribute Table: false
Edit Fields Info: null
Ownership Based AccessControl For Rasters: null
Child Resources:
Info
Statistics
Key Properties
Legend
Raster Function Infos
Supported Operations:
Export Image
Query
Identify
Measure
Compute Histograms
Compute Statistics Histograms
Get Samples
Compute Class Statistics
Query GPS Info
Find Images
Image to Map
Map to Image
Measure from Image
Image to Map Multiray
Query Boundary
Compute Pixel Location
Compute Angles
Validate
Project