View In:
ArcGIS JavaScript
ArcGIS Online Map Viewer
ArcGIS Earth
Service Description: Ljud utbreder sig genom luften som en tryckvåg. Ljud kan upplevas som störande och då pratar vi om buller. Olika människor kan vara olika känsliga för buller. Källor till buller kan vara trafik (på marken och i luften), temporära ljudkällor (skjutbanor, varningssignaler, o. dyl.).
Resultatet har sin grund i GIS-analyser, litteraturstudier och diskussioner med sakkunniga. Tysta och ostörda områden blir allt mer ovanliga i landskapet. I stora delar av södra sverige är orörda och ostörda områden en bristvara. Användbarheten handlar också om att framtida buller- och störningsanalyser kan styras till rätt plats med hjälp av de områden som identifierats som ostörda områden. I kombination med andra underlag, till exempel landskapsstrategier och översiktsplaner, kan analysen emellertid fungera som ett underlag för var befintligt buller bör minskas.
Tjänsten kan användas som WMS.
Name: RasterNationellt/lst_ext_bullerdata
Description: Ljud utbreder sig genom luften som en tryckvåg. Ljud kan upplevas som störande och då pratar vi om buller. Olika människor kan vara olika känsliga för buller. Källor till buller kan vara trafik (på marken och i luften), temporära ljudkällor (skjutbanor, varningssignaler, o. dyl.).
Resultatet har sin grund i GIS-analyser, litteraturstudier och diskussioner med sakkunniga. Tysta och ostörda områden blir allt mer ovanliga i landskapet. I stora delar av södra sverige är orörda och ostörda områden en bristvara. Användbarheten handlar också om att framtida buller- och störningsanalyser kan styras till rätt plats med hjälp av de områden som identifierats som ostörda områden. I kombination med andra underlag, till exempel landskapsstrategier och översiktsplaner, kan analysen emellertid fungera som ett underlag för var befintligt buller bör minskas.
Tjänsten kan användas som WMS.
Single Fused Map Cache: false
Extent:
XMin: 264855.820496195
YMin: 6130078.231410004
XMax: 923680.820496195
YMax: 7674478.231410004
Spatial Reference: 3006
(3006)
LatestVCSWkid(0)
Initial Extent:
XMin: 264855.820496195
YMin: 6130078.231410004
XMax: 923680.820496195
YMax: 7674478.231410004
Spatial Reference: 3006
(3006)
LatestVCSWkid(0)
Full Extent:
XMin: 264855.820496195
YMin: 6130078.231410004
XMax: 923680.820496195
YMax: 7674478.231410004
Spatial Reference: 3006
(3006)
LatestVCSWkid(0)
Pixel Size X: 25.0
Pixel Size Y: 25.0
Band Count: 1
Pixel Type: S8
RasterFunction Infos: {"rasterFunctionInfos": [
{
"name": "None",
"description": "Make a Raster or Raster Dataset into a Function Raster Dataset.",
"help": ""
},
{
"name": "None",
"description": "Make a Raster or Raster Dataset into a Function Raster Dataset.",
"help": ""
}
]}
Mensuration Capabilities: None
Inspection Capabilities:
Has Histograms: true
Has Colormap: false
Has Multi Dimensions : false
Rendering Rule:
Min Scale: 0
Max Scale: 0
Resampling: false
Copyright Text: Länsstyrelsen i Jönköpings län, Länsstyrelsen i Kalmar län
Service Data Type: esriImageServiceDataTypeThematic
Min Values: 1
Max Values: 7
Mean Values: 3.0603877613803476
Standard Deviation Values: 2.0968205824882866
Object ID Field: OBJECTID
Fields:
-
OBJECTID
(
type: esriFieldTypeOID, alias: OBJECTID
)
-
Shape
(
type: esriFieldTypeGeometry, alias: Shape
)
-
Name
(
type: esriFieldTypeString, alias: Name, length: 200
)
-
MinPS
(
type: esriFieldTypeDouble, alias: MinPS
)
-
MaxPS
(
type: esriFieldTypeDouble, alias: MaxPS
)
-
LowPS
(
type: esriFieldTypeDouble, alias: LowPS
)
-
HighPS
(
type: esriFieldTypeDouble, alias: HighPS
)
-
Category
(
type: esriFieldTypeInteger, alias: Category
, Coded Values:
[0: Unknown]
, [1: Primary]
, [2: Overview]
, ...5 more...
)
-
Tag
(
type: esriFieldTypeString, alias: Tag, length: 100
)
-
GroupName
(
type: esriFieldTypeString, alias: GroupName, length: 100
)
-
ProductName
(
type: esriFieldTypeString, alias: ProductName, length: 100
)
-
CenterX
(
type: esriFieldTypeDouble, alias: CenterX
)
-
CenterY
(
type: esriFieldTypeDouble, alias: CenterY
)
-
ZOrder
(
type: esriFieldTypeInteger, alias: ZOrder
)
-
Shape_Length
(
type: esriFieldTypeDouble, alias: Shape_Length
)
-
Shape_Area
(
type: esriFieldTypeDouble, alias: Shape_Area
)
Default Mosaic Method: Northwest
Allowed Mosaic Methods: NorthWest,Center,LockRaster,ByAttribute,Nadir,Viewpoint,Seamline,None
SortField:
SortValue: null
Mosaic Operator: First
Default Compression Quality: 75
Default Resampling Method: Nearest
Max Record Count: 1000
Max Image Height: 4100
Max Image Width: 15000
Max Download Image Count: 20
Max Mosaic Image Count: 20
Allow Raster Function: true
Allow Copy: true
Allow Analysis: true
Allow Compute TiePoints: false
Supports Statistics: true
Supports Advanced Queries: true
Use StandardizedQueries: false
Raster Type Infos:
Name: Raster Dataset
Description: Supports all ArcGIS Raster Datasets
Help:
Has Raster Attribute Table: true
Edit Fields Info: null
Ownership Based AccessControl For Rasters: null
Child Resources:
Info
Raster Attribute Table
Histograms
Statistics
Key Properties
Legend
Raster Function Infos
Supported Operations:
Export Image
Query
Identify
Compute Histograms
Compute Statistics Histograms
Get Samples
Compute Class Statistics
Query GPS Info
Find Images
Image to Map
Map to Image
Measure from Image
Image to Map Multiray
Query Boundary
Compute Pixel Location
Compute Angles
Validate
Project