View In:
ArcGIS JavaScript
ArcGIS Online Map Viewer
ArcGIS Earth
Service Description: Kartans upplösning är 50×50 m per pixel och täcker i princip all åkermark upp till och med Gävleborgs län.
Det här kartlagret beskriver matjordens lerhalt. De beräknade värdena har en osäkerhet som varierar i olika regioner och i olika skalor. För hela kartan är medelfelet för lerhalt 5,6 % och r² = 0,76. Lokalt kan osäkerheten förstås vara både större eller mindre.
Mer information:
SLU:s ”kartvisaren” kan återfinnas här, tillsammans med information från SGU:
Name: RasterExternaMyndigheter/sgu_lerhalt_matjord
Description: Kartans upplösning är 50×50 m per pixel och täcker i princip all åkermark upp till och med Gävleborgs län.
Det här kartlagret beskriver matjordens lerhalt. De beräknade värdena har en osäkerhet som varierar i olika regioner och i olika skalor. För hela kartan är medelfelet för lerhalt 5,6 % och r² = 0,76. Lokalt kan osäkerheten förstås vara både större eller mindre.
Mer information:
SLU:s ”kartvisaren” kan återfinnas här, tillsammans med information från SGU:
Single Fused Map Cache: false
Extent:
XMin: 267600.0001220703
YMin: 6133600.00012207
XMax: 757100.0001220703
YMax: 6885000.00012207
Spatial Reference: 3006
(3006)
LatestVCSWkid(0)
Initial Extent:
XMin: 267600.0001220703
YMin: 6133600.00012207
XMax: 757100.0001220703
YMax: 6885000.00012207
Spatial Reference: 3006
(3006)
LatestVCSWkid(0)
Full Extent:
XMin: 267600.0001220703
YMin: 6133600.00012207
XMax: 757100.0001220703
YMax: 6885000.00012207
Spatial Reference: 3006
(3006)
LatestVCSWkid(0)
Pixel Size X: 50.0
Pixel Size Y: 50.0
Band Count: 1
Pixel Type: U8
RasterFunction Infos: {"rasterFunctionInfos": [{
"name": "None",
"description": "",
"help": ""
}]}
Mensuration Capabilities: Basic
Inspection Capabilities:
Has Histograms: false
Has Colormap: false
Has Multi Dimensions : false
Rendering Rule:
Min Scale: 0
Max Scale: 0
Resampling: false
Copyright Text: SLU/SGUPiikki, K., Söderström, M. 2019. Digital soil mapping of arable land in Sweden – Validation of performance at multiple scales. Geoderma, 352, 342-350. https://doi.org/10.1016/j.geoderma.2017.10.049
Service Data Type: esriImageServiceDataTypeGeneric
Min Values: N/A
Max Values: N/A
Mean Values: N/A
Standard Deviation Values: N/A
Object ID Field: OBJECTID
Fields:
-
OBJECTID
(
type: esriFieldTypeOID, alias: OBJECTID
)
-
Shape
(
type: esriFieldTypeGeometry, alias: Shape
)
-
Name
(
type: esriFieldTypeString, alias: Name, length: 200
)
-
MinPS
(
type: esriFieldTypeDouble, alias: MinPS
)
-
MaxPS
(
type: esriFieldTypeDouble, alias: MaxPS
)
-
LowPS
(
type: esriFieldTypeDouble, alias: LowPS
)
-
HighPS
(
type: esriFieldTypeDouble, alias: HighPS
)
-
Category
(
type: esriFieldTypeInteger, alias: Category
, Coded Values:
[0: Unknown]
, [1: Primary]
, [2: Overview]
, ...6 more...
)
-
Tag
(
type: esriFieldTypeString, alias: Tag, length: 100
)
-
GroupName
(
type: esriFieldTypeString, alias: GroupName, length: 100
)
-
ProductName
(
type: esriFieldTypeString, alias: ProductName, length: 100
)
-
CenterX
(
type: esriFieldTypeDouble, alias: CenterX
)
-
CenterY
(
type: esriFieldTypeDouble, alias: CenterY
)
-
ZOrder
(
type: esriFieldTypeInteger, alias: ZOrder
)
-
Shape_Length
(
type: esriFieldTypeDouble, alias: Shape_Length
)
-
Shape_Area
(
type: esriFieldTypeDouble, alias: Shape_Area
)
Default Mosaic Method: Northwest
Allowed Mosaic Methods: NorthWest,Center,LockRaster,ByAttribute,Nadir,Viewpoint,Seamline,None
SortField:
SortValue: null
Mosaic Operator: First
Default Compression Quality: 75
Default Resampling Method: Nearest
Max Record Count: 1000
Max Image Height: 4100
Max Image Width: 15000
Max Download Image Count: 20
Max Mosaic Image Count: 20
Allow Raster Function: true
Allow Copy: true
Allow Analysis: true
Allow Compute TiePoints: false
Supports Statistics: true
Supports Advanced Queries: true
Use StandardizedQueries: false
Raster Type Infos:
Name: Raster Dataset
Description: Supports all ArcGIS Raster Datasets
Help:
Has Raster Attribute Table: true
Edit Fields Info: null
Ownership Based AccessControl For Rasters: null
Child Resources:
Info
Raster Attribute Table
Statistics
Key Properties
Legend
Raster Function Infos
Supported Operations:
Export Image
Query
Identify
Measure
Compute Histograms
Compute Statistics Histograms
Get Samples
Compute Class Statistics
Query GPS Info
Find Images
Image to Map
Map to Image
Measure from Image
Image to Map Multiray
Query Boundary
Compute Pixel Location
Compute Angles
Validate
Project